1.52835750681624
0.00000000000000
0.00000000000000
-1.52835750681624
-196599.69026075239526
70366.32385628191696
