1.52795740600425
0.00000000000000
0.00000000000000
-1.52795740600425
-228251.25389737033402
112970.48890278993349
