1.52824781715555
0.00000000000000
0.00000000000000
-1.52824781715555
-240173.68372629221994
71686.77915727092477
