1.52725284900772
0.00000000000000
0.00000000000000
-1.52725284900772
-228661.56704700112459
99083.08464844471018
