1.52817643797910
0.00000000000000
0.00000000000000
-1.52817643797910
-239804.03253801350365
85441.83921928389464
