1.52773307664905
0.00000000000000
0.00000000000000
-1.52773307664905
-218642.26479449842009
71111.96217364752374
