1.52668503762007
0.00000000000000
0.00000000000000
-1.52668503762007
-250208.83990185149014
99597.35632648233150
