1.52738734719262
0.00000000000000
0.00000000000000
-1.52738734719262
-207147.07143205995089
84471.14694633720501
