1.52759392645819
0.00000000000000
0.00000000000000
-1.52759392645819
-239430.83854142058408
99358.79988717574452
