1.52915937445656
0.00000000000000
0.00000000000000
-1.52915937445656
-184967.74153586023021
111874.75040726255975
