1.52923205714063
0.00000000000000
0.00000000000000
-1.52923205714063
-217437.53102537360974
112677.36867203627480
