1.52851035109719
0.00000000000000
0.00000000000000
-1.52851035109719
-197972.43197990875342
14847.69774844308995
