1.52945438884922
0.00000000000000
0.00000000000000
-1.52945438884922
-262471.51756339753047
58362.78401712100458
