1.52711684214321
0.00000000000000
0.00000000000000
-1.52711684214321
-197060.39560746846837
56616.21201921986358
