1.52828386056137
0.00000000000000
0.00000000000000
-1.52828386056137
-197531.96249153657118
28733.87819365651012
