1.52942078830613
0.00000000000000
0.00000000000000
-1.52942078830613
-241113.06440609871061
43758.14680750906700
