1.52799652265187
0.00000000000000
0.00000000000000
-1.52799652265187
-208638.68938539316878
28967.41052734843470
