1.52361630124647
0.00000000000000
0.00000000000000
-1.52361630124647
-265645.60404634953011
16685.17941701642121
