1.52770206153446
0.00000000000000
0.00000000000000
-1.52770206153446
-186377.64363722491544
42356.21045783517184
