1.52838203714712
0.00000000000000
0.00000000000000
-1.52838203714712
-186638.11557443536003
28479.95246938564742
