1.52935788315083
0.00000000000000
0.00000000000000
-1.52935788315083
-230068.38688143977197
43455.57932493467524
