1.52785208622656
0.00000000000000
0.00000000000000
-1.52785208622656
-252673.56075182781206
16331.27108585228598
