1.52929545139556
0.00000000000000
0.00000000000000
-1.52929545139556
-229815.82115499093197
57391.99605323187279
