1.52714049240863
0.00000000000000
0.00000000000000
-1.52714049240863
-208956.16937093037996
15157.46235982610415
