1.52922675797209
0.00000000000000
0.00000000000000
-1.52922675797209
-197441.39390200114576
42649.10734373344894
