1.53003828060985
0.00000000000000
0.00000000000000
-1.53003828060985
-186171.29039457591716
56329.83597085780639
