1.52831051421459
0.00000000000000
0.00000000000000
-1.52831051421459
-208208.72454251567251
42988.48451699587167
