1.52669985892951
0.00000000000000
0.00000000000000
-1.52669985892951
-230726.28013902239036
15621.53688306425101
