1.52888133192257
0.00000000000000
0.00000000000000
-1.52888133192257
-241348.74758908190415
29871.50254230080463
