1.52697655906363
0.00000000000000
0.00000000000000
-1.52697655906363
-219996.63592502637766
15448.18754364149936
