1.52871785300420
0.00000000000000
0.00000000000000
-1.52871785300420
-230503.90913488582009
29512.80024945969853
