1.52772058497245
0.00000000000000
0.00000000000000
-1.52772058497245
-252401.91903374035610
30354.09672443868112
