1.52900452193672
0.00000000000000
0.00000000000000
-1.52900452193672
-218809.51807347647264
57099.04286960797617
