1.52835724390609
0.00000000000000
0.00000000000000
-1.52835724390609
-241963.55104066623608
16095.07511443386829
