1.52838391967922
0.00000000000000
0.00000000000000
-1.52838391967922
-240631.10432522612973
57694.71510496162227
