1.52948414957626
0.00000000000000
0.00000000000000
-1.52948414957626
-219470.10585772778722
29198.93333117266229
