1.52816436529473
0.00000000000000
0.00000000000000
-1.52816436529473
-251466.58995985970250
57958.63709586893674
