1.52806904213482
0.00000000000000
0.00000000000000
-1.52806904213482
-219242.23254136164906
43179.01850659780757
