1.52713377268623
0.00000000000000
0.00000000000000
-1.52713377268623
-263329.40768360032234
30600.00741492278030
