1.52778985940826
0.00000000000000
0.00000000000000
-1.52778985940826
-251967.57422112743370
44104.42209029316291
