1.52686337246746
0.00000000000000
0.00000000000000
-1.52686337246746
-262861.32470610667951
44506.96679518534074
