1.52799388418857
0.00000000000000
0.00000000000000
-1.52799388418857
-187131.44506797331269
14540.94197413372058
