1.52711634037708
0.00000000000000
0.00000000000000
-1.52711634037708
-207931.28403336988413
56792.28432654440985
