1.52883013766700
0.00000000000000
0.00000000000000
-1.52883013766700
-284161.67477704113116
58986.34375541102054
