1.52882154386088
0.00000000000000
0.00000000000000
-1.52882154386088
-273859.75076340203082
44822.61096518534074
