1.52717112144819
0.00000000000000
0.00000000000000
-1.52717112144819
-273253.68878340203082
58674.46785280328186
