1.52711845077052
0.00000000000000
0.00000000000000
-1.52711845077052
-294184.29889422608539
87222.81940009508980
