1.52861367336464
0.00000000000000
0.00000000000000
-1.52861367336464
-282710.72304972691927
100603.97537179806386
