1.52832589870001
0.00000000000000
0.00000000000000
-1.52832589870001
-272893.73412303044461
72515.38104589446448
