1.52639370581794
0.00000000000000
0.00000000000000
-1.52639370581794
-272044.28920139209367
100463.36820675279887
